BEGIN:VCALENDAR
VERSION:2.0
PRODID:-//Gemeinsam Schlangen gestalten e. V. - ECPv6.15.20//NONSGML v1.0//EN
CALSCALE:GREGORIAN
METHOD:PUBLISH
X-WR-CALNAME:Gemeinsam Schlangen gestalten e. V.
X-ORIGINAL-URL:https://schlangen-gestalten.de
X-WR-CALDESC:Veranstaltungen für Gemeinsam Schlangen gestalten e. V.
REFRESH-INTERVAL;VALUE=DURATION:PT1H
X-Robots-Tag:noindex
X-PUBLISHED-TTL:PT1H
BEGIN:VTIMEZONE
TZID:Europe/Berlin
BEGIN:DAYLIGHT
TZOFFSETFROM:+0100
TZOFFSETTO:+0200
TZNAME:CEST
DTSTART:20250330T010000
END:DAYLIGHT
BEGIN:STANDARD
TZOFFSETFROM:+0200
TZOFFSETTO:+0100
TZNAME:CET
DTSTART:20251026T010000
END:STANDARD
BEGIN:DAYLIGHT
TZOFFSETFROM:+0100
TZOFFSETTO:+0200
TZNAME:CEST
DTSTART:20260329T010000
END:DAYLIGHT
BEGIN:STANDARD
TZOFFSETFROM:+0200
TZOFFSETTO:+0100
TZNAME:CET
DTSTART:20261025T010000
END:STANDARD
BEGIN:DAYLIGHT
TZOFFSETFROM:+0100
TZOFFSETTO:+0200
TZNAME:CEST
DTSTART:20270328T010000
END:DAYLIGHT
BEGIN:STANDARD
TZOFFSETFROM:+0200
TZOFFSETTO:+0100
TZNAME:CET
DTSTART:20271031T010000
END:STANDARD
END:VTIMEZONE
BEGIN:VEVENT
DTSTART;TZID=Europe/Berlin:20260421T190000
DTEND;TZID=Europe/Berlin:20260421T200000
DTSTAMP:20260422T002853
CREATED:20260408T125214Z
LAST-MODIFIED:20260408T125214Z
UID:10000276-1776798000-1776801600@schlangen-gestalten.de
SUMMARY:Stadt-Terrassen: Gemeinsam singen
DESCRIPTION:An den Stadt-Terrassen in Schlangen soll es künftig regelmäßig gemeinsames Singen geben. Alle Bürgerinnen und Bürger sind herzlich eingeladen\, mitzumachen – ganz gleich ob jung oder alt\, mit Gesangserfahrung oder einfach mit Freude an Musik und Gemeinschaft. \nDer erste Termin ist am Dienstag\, 14. April 2026\, um 19 Uhr. Danach soll das gemeinsame Singen jeweils dienstags um 19 Uhr stattfinden. Wenn das Angebot gut angenommen wird\, kann es auch ausgeweitet werden. \nIm Mittelpunkt steht nicht die perfekte Stimme\, sondern das gemeinsame Erlebnis: zusammenkommen\, miteinander singen\, ins Gespräch kommen und eine gute Zeit verbringen. Gesungen werden sollen Lieder\, die viele Menschen kennen und gerne mitsingen. Auch Liedwünsche können eingebracht werden. \nDieter Vollmer\, aus dessen Idee das Angebot entstanden ist\, sagt: „Wir brauchen jeweils ein oder zwei Menschen vor Ort\, die die Gruppe singend führen können. Denkbar wäre auch eine Begleitung\, zum Beispiel mit E-Piano. Ziel ist es\, gemeinsam zu singen und miteinander ins Gespräch zu kommen.“ \nWer Lust hat mitzusingen oder das Angebot zu unterstützen\, ist herzlich willkommen. Das gemeinsame Singen soll ein offenes Angebot für alle sein.
URL:https://schlangen-gestalten.de/veranstaltung/stadt-terrassen-gemeinsam-singen/2026-04-21/
LOCATION:Bühne an den Stadt-Terrassen\, Paderborner Str. 2\, Schlangen\, NRW\, 33189\, Germany
CATEGORIES:Stadt-Terrassen
END:VEVENT
END:VCALENDAR