BEGIN:VCALENDAR
VERSION:2.0
PRODID:-//Gemeinsam Schlangen gestalten e. V. - ECPv6.15.20//NONSGML v1.0//EN
CALSCALE:GREGORIAN
METHOD:PUBLISH
X-WR-CALNAME:Gemeinsam Schlangen gestalten e. V.
X-ORIGINAL-URL:https://schlangen-gestalten.de
X-WR-CALDESC:Veranstaltungen für Gemeinsam Schlangen gestalten e. V.
REFRESH-INTERVAL;VALUE=DURATION:PT1H
X-Robots-Tag:noindex
X-PUBLISHED-TTL:PT1H
BEGIN:VTIMEZONE
TZID:Europe/Berlin
BEGIN:DAYLIGHT
TZOFFSETFROM:+0100
TZOFFSETTO:+0200
TZNAME:CEST
DTSTART:20250330T010000
END:DAYLIGHT
BEGIN:STANDARD
TZOFFSETFROM:+0200
TZOFFSETTO:+0100
TZNAME:CET
DTSTART:20251026T010000
END:STANDARD
BEGIN:DAYLIGHT
TZOFFSETFROM:+0100
TZOFFSETTO:+0200
TZNAME:CEST
DTSTART:20260329T010000
END:DAYLIGHT
BEGIN:STANDARD
TZOFFSETFROM:+0200
TZOFFSETTO:+0100
TZNAME:CET
DTSTART:20261025T010000
END:STANDARD
BEGIN:DAYLIGHT
TZOFFSETFROM:+0100
TZOFFSETTO:+0200
TZNAME:CEST
DTSTART:20270328T010000
END:DAYLIGHT
BEGIN:STANDARD
TZOFFSETFROM:+0200
TZOFFSETTO:+0100
TZNAME:CET
DTSTART:20271031T010000
END:STANDARD
END:VTIMEZONE
BEGIN:VEVENT
DTSTART;TZID=Europe/Berlin:20260410T150000
DTEND;TZID=Europe/Berlin:20260410T180000
DTSTAMP:20260421T161857
CREATED:20260408T101156Z
LAST-MODIFIED:20260408T101156Z
UID:544-1775833200-1775844000@schlangen-gestalten.de
SUMMARY:Aktiver Nachmittag im Generationengarten
DESCRIPTION:Die Wildpflanzenfreunde Bad Lippspringe & Schlangen und der Gemeinsam Schlangen gestalten e.V. laden herzlich zu einem aktiven Nachmittag in den Generationengarten ein. \nWer Freude daran hat\, unseren schönen Generationengarten mitzugestalten\, ist herzlic eingeladen. Ganz gleich\, ob du bereits Erfahrung mitbringst oder einfach neugierig bist – jede helfende Hand ist willkommen. Unsere Treffen sind immer geprägt von einem schönen Miteinander\, von inspirierenden Gesprächen und vielen kleinen Wissensschätzen\, die ganz nebenbei vermittelt werden. Falls vorhanden\, bring bitte eigene Gartengeräte mit: Gartenhandschuhe\, Schere\, Spaten oder Hacke. \nSollte es regnen\, fällt das Treffen aus.
URL:https://schlangen-gestalten.de/veranstaltung/aktiver-nachmittag-im-generationengarten/
LOCATION:Kreisaltenheim Oesterholz\, Im kleinen Bruch 1\, Schlangen\, NRW\, 33189\, Germany
CATEGORIES:Gartenfreunde
END:VEVENT
END:VCALENDAR